BEGIN:VCALENDAR
VERSION:2.0
PRODID:-//La Societe Guernesiaise - ECPv6.2.9//NONSGML v1.0//EN
CALSCALE:GREGORIAN
METHOD:PUBLISH
X-ORIGINAL-URL:https://societe.org.gg/wp
X-WR-CALDESC:Events for La Societe Guernesiaise
REFRESH-INTERVAL;VALUE=DURATION:PT1H
X-Robots-Tag:noindex
X-PUBLISHED-TTL:PT1H
BEGIN:VTIMEZONE
TZID:UTC
BEGIN:STANDARD
TZOFFSETFROM:+0000
TZOFFSETTO:+0000
TZNAME:UTC
DTSTART:20240101T000000
END:STANDARD
END:VTIMEZONE
BEGIN:VEVENT
DTSTART;TZID=UTC:20240219T193000
DTEND;TZID=UTC:20240219T193000
DTSTAMP:20260425T115455
CREATED:20240213T162102Z
LAST-MODIFIED:20240213T162102Z
UID:22655-1708371000-1708371000@societe.org.gg
SUMMARY:Natural History Section AGM
DESCRIPTION:Natural History AGM \nThe meeting will be held at Candie on Monday February 19th starting at 7.30 pm.
URL:https://societe.org.gg/wp/event/natural-history-section-agm/
CATEGORIES:Natural History
END:VEVENT
END:VCALENDAR