BEGIN:VCALENDAR
VERSION:2.0
PRODID:-//La Societe Guernesiaise - ECPv6.2.9//NONSGML v1.0//EN
CALSCALE:GREGORIAN
METHOD:PUBLISH
X-ORIGINAL-URL:https://societe.org.gg/wp
X-WR-CALDESC:Events for La Societe Guernesiaise
REFRESH-INTERVAL;VALUE=DURATION:PT1H
X-Robots-Tag:noindex
X-PUBLISHED-TTL:PT1H
BEGIN:VTIMEZONE
TZID:UTC
BEGIN:STANDARD
TZOFFSETFROM:+0000
TZOFFSETTO:+0000
TZNAME:UTC
DTSTART:20230101T000000
END:STANDARD
END:VTIMEZONE
BEGIN:VEVENT
DTSTART;TZID=UTC:20230918T180000
DTEND;TZID=UTC:20230918T180000
DTSTAMP:20260425T193131
CREATED:20230612T131753Z
LAST-MODIFIED:20230612T131818Z
UID:21928-1695060000-1695060000@societe.org.gg
SUMMARY:Natural History visit to Pleinmont Headland
DESCRIPTION:Monday September 18th – visit to Pleinmont Headland. La Societe owns a large area of the headland and we will be visiting various parts of it looking at flora and fauna. Meet at the car park opposite the scramble track 6pm. \nThese events are open to members of La Societe. If you are not a member of Natural History section but would like to join an event\, please contact the secretary by email: naturalhistory@societe.org.gg for more information.
URL:https://societe.org.gg/wp/event/natural-history-visit-to-pleinmont-headland/
CATEGORIES:Natural History
END:VEVENT
END:VCALENDAR