BEGIN:VCALENDAR
VERSION:2.0
PRODID:-//La Societe Guernesiaise - ECPv6.2.9//NONSGML v1.0//EN
CALSCALE:GREGORIAN
METHOD:PUBLISH
X-WR-CALNAME:La Societe Guernesiaise
X-ORIGINAL-URL:https://societe.org.gg/wp
X-WR-CALDESC:Events for La Societe Guernesiaise
REFRESH-INTERVAL;VALUE=DURATION:PT1H
X-Robots-Tag:noindex
X-PUBLISHED-TTL:PT1H
BEGIN:VTIMEZONE
TZID:UTC
BEGIN:STANDARD
TZOFFSETFROM:+0000
TZOFFSETTO:+0000
TZNAME:UTC
DTSTART:20230101T000000
END:STANDARD
END:VTIMEZONE
BEGIN:VEVENT
DTSTART;TZID=UTC:20230619T183000
DTEND;TZID=UTC:20230619T183000
DTSTAMP:20260425T233657
CREATED:20230612T131625Z
LAST-MODIFIED:20230612T131625Z
UID:21924-1687199400-1687199400@societe.org.gg
SUMMARY:Natural history Visit to La Societe’s Pre D’Enfer in Rue Des Bergers
DESCRIPTION:Monday June 19th – visit to La Societe’s Pre D’Enfer in Rue Des Bergers\, where we will be concentrating on insects as this is the beginning of National Insect week. We will be pond dipping and hoping to find Odenata nymphs and other water insects. Meet 6.30pm in the car park. Please be aware parking is very limited. \nThese events are open to members of La Societe. If you are not a member of Natural History section but would like to join an event\, please contact the secretary by email: naturalhistory@societe.org.gg for more information. \n 
URL:https://societe.org.gg/wp/event/natural-history-visit-to-la-societes-pre-denfer-in-rue-des-bergers/
CATEGORIES:Natural History
END:VEVENT
END:VCALENDAR