BEGIN:VCALENDAR
VERSION:2.0
PRODID:-//La Societe Guernesiaise - ECPv6.2.9//NONSGML v1.0//EN
CALSCALE:GREGORIAN
METHOD:PUBLISH
X-WR-CALNAME:La Societe Guernesiaise
X-ORIGINAL-URL:https://societe.org.gg/wp
X-WR-CALDESC:Events for La Societe Guernesiaise
REFRESH-INTERVAL;VALUE=DURATION:PT1H
X-Robots-Tag:noindex
X-PUBLISHED-TTL:PT1H
BEGIN:VTIMEZONE
TZID:UTC
BEGIN:STANDARD
TZOFFSETFROM:+0000
TZOFFSETTO:+0000
TZNAME:UTC
DTSTART:20250101T000000
END:STANDARD
END:VTIMEZONE
BEGIN:VEVENT
DTSTART;TZID=UTC:20251118T190000
DTEND;TZID=UTC:20251118T190000
DTSTAMP:20260421T162123
CREATED:20251111T172341Z
LAST-MODIFIED:20251111T172341Z
UID:172427-1763492400-1763492400@societe.org.gg
SUMMARY:EVE TORODE PRESENTS ON HER MSC RESEARCH IN GUERNSEY
DESCRIPTION:In partial fulfilment of my MSc I set out to undertake the first ecological assessment of sea bed communities and food web dynamics in Guernsey waters. Using mono-Baited Remote Underwater Video systems (mono-BRUVs)\, I investigated how varying levels of fishing pressure affect community composition across sites with low\, moderate\, and high fishing intensity. The findings contribute to a foundational ecological baseline vital for sustainable fisheries management and marine conservation in the Channel Islands. \n  \n18th Nov Marine biology talk
URL:https://societe.org.gg/wp/event/eve-torode-presents-on-her-msc-research-in-guernsey/
LOCATION:Frossard Theatre\, Candie
CATEGORIES:Marine Biology
END:VEVENT
END:VCALENDAR