BEGIN:VCALENDAR
VERSION:2.0
PRODID:-//La Societe Guernesiaise - ECPv6.2.9//NONSGML v1.0//EN
CALSCALE:GREGORIAN
METHOD:PUBLISH
X-ORIGINAL-URL:https://societe.org.gg/wp
X-WR-CALDESC:Events for La Societe Guernesiaise
REFRESH-INTERVAL;VALUE=DURATION:PT1H
X-Robots-Tag:noindex
X-PUBLISHED-TTL:PT1H
BEGIN:VTIMEZONE
TZID:UTC
BEGIN:STANDARD
TZOFFSETFROM:+0000
TZOFFSETTO:+0000
TZNAME:UTC
DTSTART:20250101T000000
END:STANDARD
END:VTIMEZONE
BEGIN:VEVENT
DTSTART;TZID=UTC:20250921T103000
DTEND;TZID=UTC:20250921T113000
DTSTAMP:20260421T193324
CREATED:20250221T121843Z
LAST-MODIFIED:20250317T174816Z
UID:23500-1758450600-1758454200@societe.org.gg
SUMMARY:Junior Event – Dolphin Surveying 🐬
DESCRIPTION:Sunday 21st September | 10:30 – 11:30 | Balcony/top deck of La Vallette Bathing Pools Building  \nPop along and join us throughout the morning as we survey for dolphins! Alongside our Marine Biology Section Secretary and Education team\, learn how to survey dolphins\, the species we have in the Bailiwick\, what they eat and how we can best look after them. \nThere will be the chance for everyone to survey the waters with binoculars\, as well the opportunity to take part in some educational activities to learn more about the dolphins we have in our local waters.   \nLocation – What3words: ///zips.twigs.tidying  — here \nTo register for this event\, please email Sarah at eca@societe.org.gg with children’s names. Please note this is a drop in session but as there is limited space\, numbers will be restricted.  \nIf you have your own binoculars\, please bring them along and if not\, some will be supplied.  \n—- \nAll junior events are free for La Société members. If you are not a member but are interested in this event\, please email Sarah at eca@societe.org.gg and you are welcome to come along as a taster session to our events and learn more about the benefits of becoming a member.  To become a member\, please follow the below link. 
URL:https://societe.org.gg/wp/event/junior-event-dolphin-surveying-2/
LOCATION:La Vallette Bathing Pools
CATEGORIES:Junior Section,Marine Biology
END:VEVENT
END:VCALENDAR