BEGIN:VCALENDAR
VERSION:2.0
PRODID:-//La Societe Guernesiaise - ECPv6.2.9//NONSGML v1.0//EN
CALSCALE:GREGORIAN
METHOD:PUBLISH
X-ORIGINAL-URL:https://societe.org.gg/wp
X-WR-CALDESC:Events for La Societe Guernesiaise
REFRESH-INTERVAL;VALUE=DURATION:PT1H
X-Robots-Tag:noindex
X-PUBLISHED-TTL:PT1H
BEGIN:VTIMEZONE
TZID:UTC
BEGIN:STANDARD
TZOFFSETFROM:+0000
TZOFFSETTO:+0000
TZNAME:UTC
DTSTART:20250101T000000
END:STANDARD
END:VTIMEZONE
BEGIN:VEVENT
DTSTART;TZID=UTC:20250514T193000
DTEND;TZID=UTC:20250514T193000
DTSTAMP:20260422T020853
CREATED:20250422T105734Z
LAST-MODIFIED:20250422T111335Z
UID:23761-1747251000-1747251000@societe.org.gg
SUMMARY:Marine Protected Areas across the UK\, an evening with Blue Marine Foundation
DESCRIPTION:Wednesday 14th May  7:30pm \nFrossard Lecture Theatre\, Candie \nHear from Freddie Watson and Dr Jean-Luc Solandt of the Blue Marine Foundation as they share stories on the progress and lessons-learnt of Marine Protected Areas across the UK and Channel Islands. \nAbout this event \nThis event will feature two presentations from Jean Luc Solandt and Freddie Watson of the Blue Marine Foundation. \nJean-Luc will talk about the amazing habitats and stories from UK MPAs – why we need to protect our seas\, the increased urgency in the face of climate change\, and how the conversation and perspective of ‘protection’ has changed over the past 2 generations. What does this evolution mean for the Channel Islands\, and how we – as a society – are facing the greatest challenge to mankind. \nFreddie will then dive into the various initiatives and workstreams which initially brought the topic of MPAs to the policy table in Jersey. These activities played a key role in securing the words ‘develop a network of marine protected areas’ within Jersey’s Island Plan. This then kickstarted the marine spatial plan\, and therefore\, the development of MPAs. Freddie will touch on key research projects\, education initiatives and supporting low-impact fisheries\, as well as what the next steps look like for Jersey. \nBook Tickets here
URL:https://societe.org.gg/wp/event/marine-protected-areas-across-the-uk-evening-with-blue-marine-foundation/
LOCATION:Frossard Theatre\, Candie
CATEGORIES:Marine Biology
END:VEVENT
END:VCALENDAR