BEGIN:VCALENDAR
VERSION:2.0
PRODID:-//La Societe Guernesiaise - ECPv6.2.9//NONSGML v1.0//EN
CALSCALE:GREGORIAN
METHOD:PUBLISH
X-ORIGINAL-URL:https://societe.org.gg/wp
X-WR-CALDESC:Events for La Societe Guernesiaise
REFRESH-INTERVAL;VALUE=DURATION:PT1H
X-Robots-Tag:noindex
X-PUBLISHED-TTL:PT1H
BEGIN:VTIMEZONE
TZID:UTC
BEGIN:STANDARD
TZOFFSETFROM:+0000
TZOFFSETTO:+0000
TZNAME:UTC
DTSTART:20240101T000000
END:STANDARD
END:VTIMEZONE
BEGIN:VEVENT
DTSTART;TZID=UTC:20241020T143000
DTEND;TZID=UTC:20241020T153000
DTSTAMP:20260422T125555
CREATED:20241013T144607Z
LAST-MODIFIED:20241013T144608Z
UID:23219-1729434600-1729438200@societe.org.gg
SUMMARY:Eelgrass Beach Walkover Survey
DESCRIPTION:Join us for a wonderful intertidal beach walkover to search the eelgrass bed at Salarie Corner (w3w: former.altitude.reserve). \nSunday 20th October\, from 2.30pm at Salarie Corner \nWe will be searching the bed to help record a variety of marine life with our friends from the Nature Commission and Guernsey Seasearch. \nPlease wear appropriate clothing and footwear \n \n \n  \n 
URL:https://societe.org.gg/wp/event/eelgrass-beach-walkover-survey/
CATEGORIES:Marine Biology
END:VEVENT
END:VCALENDAR