BEGIN:VCALENDAR
VERSION:2.0
PRODID:-//La Societe Guernesiaise - ECPv6.2.9//NONSGML v1.0//EN
CALSCALE:GREGORIAN
METHOD:PUBLISH
X-ORIGINAL-URL:https://societe.org.gg/wp
X-WR-CALDESC:Events for La Societe Guernesiaise
REFRESH-INTERVAL;VALUE=DURATION:PT1H
X-Robots-Tag:noindex
X-PUBLISHED-TTL:PT1H
BEGIN:VTIMEZONE
TZID:UTC
BEGIN:STANDARD
TZOFFSETFROM:+0000
TZOFFSETTO:+0000
TZNAME:UTC
DTSTART:20240101T000000
END:STANDARD
END:VTIMEZONE
BEGIN:VEVENT
DTSTART;TZID=UTC:20240608T143000
DTEND;TZID=UTC:20240608T153000
DTSTAMP:20260422T190926
CREATED:20240510T144520Z
LAST-MODIFIED:20240510T150025Z
UID:22840-1717857000-1717860600@societe.org.gg
SUMMARY:Junior Event – Rock Pooling
DESCRIPTION:Saturday 8th June | 14:30 – 15:30 | Portelet Bay \nCome along and join us rock pooling to see what we can find at low tide. We’ll be looking for all sorts of marine life such as crabs\, fish\, anemones\, squat lobsters\, starfish and hopefully lots more! Please note: we will be handling any creatures gently and ensuring we leave the rock pools exactly as we found them. \nWe will meet at the bottom of the slipway. Please wear sensible footwear and if you have a bucket\, please feel free to bring it along! \nLocation – What3words: ///architecture.scaring.cashiers here \nTo register interest in this event\, please email Sarah at eca@societe.org.gg with children’s names.  \n 
URL:https://societe.org.gg/wp/event/junior-event-rock-pooling-3/
LOCATION:Portelet
CATEGORIES:Junior Section,Marine Biology
END:VEVENT
END:VCALENDAR