BEGIN:VCALENDAR
VERSION:2.0
PRODID:-//La Societe Guernesiaise - ECPv6.2.9//NONSGML v1.0//EN
CALSCALE:GREGORIAN
METHOD:PUBLISH
X-WR-CALNAME:La Societe Guernesiaise
X-ORIGINAL-URL:https://societe.org.gg/wp
X-WR-CALDESC:Events for La Societe Guernesiaise
REFRESH-INTERVAL;VALUE=DURATION:PT1H
X-Robots-Tag:noindex
X-PUBLISHED-TTL:PT1H
BEGIN:VTIMEZONE
TZID:UTC
BEGIN:STANDARD
TZOFFSETFROM:+0000
TZOFFSETTO:+0000
TZNAME:UTC
DTSTART:20230101T000000
END:STANDARD
END:VTIMEZONE
BEGIN:VEVENT
DTSTART;TZID=UTC:20231029T120000
DTEND;TZID=UTC:20231029T133000
DTSTAMP:20260423T091145
CREATED:20230927T115702Z
LAST-MODIFIED:20230929T093708Z
UID:22127-1698580800-1698586200@societe.org.gg
SUMMARY:Junior Event – Rock Pooling
DESCRIPTION:Junior Event – Rock Pooling \nSunday 29th October | 12:00 – 13:30pm\, at Belle Greve Bay.  \nCome along and join us rock pooling to see what we can discover at low tide. We’ll be looking for all sorts of marine life such as crabs\, fish\, anemones\, squat lobsters\, starfish and hopefully lots more! Please note: we will be handling any creatures gently and ensuring we leave the rock pools exactly as we found them. \nWe will meet at the bottom of the slipway. Please wear sensible footwear and if you have a bucket and net\, please feel free to bring them along! \nLocation – What3words: ///knots.outlined.tribes /// here \nTo register interest in this event\, please contact Sarah at eca@societe.org.gg with children’s names.  \n 
URL:https://societe.org.gg/wp/event/junior-event-rock-pooling-2/
LOCATION:Belle Greve Bay
CATEGORIES:Junior Section,Marine Biology
END:VEVENT
END:VCALENDAR