BEGIN:VCALENDAR
VERSION:2.0
PRODID:-//La Societe Guernesiaise - ECPv6.2.9//NONSGML v1.0//EN
CALSCALE:GREGORIAN
METHOD:PUBLISH
X-WR-CALNAME:La Societe Guernesiaise
X-ORIGINAL-URL:https://societe.org.gg/wp
X-WR-CALDESC:Events for La Societe Guernesiaise
REFRESH-INTERVAL;VALUE=DURATION:PT1H
X-Robots-Tag:noindex
X-PUBLISHED-TTL:PT1H
BEGIN:VTIMEZONE
TZID:UTC
BEGIN:STANDARD
TZOFFSETFROM:+0000
TZOFFSETTO:+0000
TZNAME:UTC
DTSTART:20230101T000000
END:STANDARD
END:VTIMEZONE
BEGIN:VEVENT
DTSTART;TZID=UTC:20230729T103000
DTEND;TZID=UTC:20230729T113000
DTSTAMP:20260423T140800
CREATED:20230707T142332Z
LAST-MODIFIED:20230707T142332Z
UID:21962-1690626600-1690630200@societe.org.gg
SUMMARY:Junior Event – Crab Surveying
DESCRIPTION:Junior Event – Crab Surveying\nSaturday 29th July | 10:30am – 11:30am\, at Portelet Bay  \nCome along and help us survey our local crabs! Crabs are a really good marker of our coastal environment and crab surveying helps us assess the status and health of our local crabs\, population changes of native and non-native species\, and also helps us to monitor human impact on marine life. Crabs are easily impacted by human activities\, including warming seas\, the introduction of invasive species and overexploitation. This makes them an ideal subject to help indicate how oceans are changing and the impacts of these threats. All data collected with be given to the Guernsey Biological Records Centre.  \n  \nTo register interest in this event\, please contact Sarah at eca@societe.org.gg with children’s names. \nLocation – What3words: ///commitments.encases.bullseye – here \nWe will meet at the bottom of the slipway on the beach.  Please wear sensible footwear and we look forward to seeing you there!
URL:https://societe.org.gg/wp/event/junior-event-crab-surveying/
CATEGORIES:Junior Section,Marine Biology
END:VEVENT
END:VCALENDAR