BEGIN:VCALENDAR
VERSION:2.0
PRODID:-//La Societe Guernesiaise - ECPv6.2.9//NONSGML v1.0//EN
CALSCALE:GREGORIAN
METHOD:PUBLISH
X-WR-CALNAME:La Societe Guernesiaise
X-ORIGINAL-URL:https://societe.org.gg/wp
X-WR-CALDESC:Events for La Societe Guernesiaise
REFRESH-INTERVAL;VALUE=DURATION:PT1H
X-Robots-Tag:noindex
X-PUBLISHED-TTL:PT1H
BEGIN:VTIMEZONE
TZID:UTC
BEGIN:STANDARD
TZOFFSETFROM:+0000
TZOFFSETTO:+0000
TZNAME:UTC
DTSTART:20240101T000000
END:STANDARD
END:VTIMEZONE
BEGIN:VEVENT
DTSTART;TZID=UTC:20240510T203000
DTEND;TZID=UTC:20240510T213000
DTSTAMP:20260420T031342
CREATED:20240429T143808Z
LAST-MODIFIED:20240429T143808Z
UID:22824-1715373000-1715376600@societe.org.gg
SUMMARY:Junior Event – Bat Walk
DESCRIPTION:Friday 10th May | 8:30pm – 9:30pm | Saumarez Park  \nJoin us for a bat walk around the park where we will use detectors to see what bats are flying over us! As we walk\, we will talk about what species of bat we have in the Bailiwick\, why they are important and how we can best protect them.  \nWe will meet in carpark by the children’s pirates playground. \nTo register interest in this event\, please contact Sarah at eca@societe.org.gg with children’s names so we can know numbers.  \nPlease wear sensible footwear and we look forward to seeing you there! \n 
URL:https://societe.org.gg/wp/event/junior-event-bat-walk/
LOCATION:Saumarez Park\, Castel\, Guernsey\, GY5 7UJ
CATEGORIES:Bats,Junior Section
END:VEVENT
END:VCALENDAR