BEGIN:VCALENDAR
VERSION:2.0
PRODID:-//La Societe Guernesiaise - ECPv6.2.9//NONSGML v1.0//EN
CALSCALE:GREGORIAN
METHOD:PUBLISH
X-ORIGINAL-URL:https://societe.org.gg/wp
X-WR-CALDESC:Events for La Societe Guernesiaise
REFRESH-INTERVAL;VALUE=DURATION:PT1H
X-Robots-Tag:noindex
X-PUBLISHED-TTL:PT1H
BEGIN:VTIMEZONE
TZID:UTC
BEGIN:STANDARD
TZOFFSETFROM:+0000
TZOFFSETTO:+0000
TZNAME:UTC
DTSTART:20230101T000000
END:STANDARD
END:VTIMEZONE
BEGIN:VEVENT
DTSTART;TZID=UTC:20230809T204000
DTEND;TZID=UTC:20230809T204000
DTSTAMP:20260420T175759
CREATED:20230808T071439Z
LAST-MODIFIED:20230808T071440Z
UID:22010-1691613600-1691613600@societe.org.gg
SUMMARY:Nature Guernsey - Bat Walk
DESCRIPTION:Join Nature Guernsey and La Societe Bat Section for a Bat Walk on Wednesday 9th August\, 8.40pm at Saumarez Park \n 
URL:https://societe.org.gg/wp/event/nature-guernsey-bat-walk-2/
LOCATION:Guernsey
CATEGORIES:Bats,Nature Guernsey
END:VEVENT
BEGIN:VEVENT
DTSTART;TZID=UTC:20230824T201500
DTEND;TZID=UTC:20230824T201500
DTSTAMP:20260420T175759
CREATED:20230822T151904Z
LAST-MODIFIED:20230822T153612Z
UID:22017-1692908100-1692908100@societe.org.gg
SUMMARY:Bat Walk 🦇
DESCRIPTION:Thursday 24th August \n\n\nMeeting at 8.15pm at the St Saviour’s reservoir\, at the Rue a L’or carpark \n\n\nWe will walk from the carpark across the top of the reservoir and to the outdoor classroom.  \n\n\nThe path is uneven\, and not really suitable for pushchairs. Children will need to be supervised. We recommend that you bring a torch. \n\n\n 
URL:https://societe.org.gg/wp/event/bat-walk-%f0%9f%a6%87/
LOCATION:Guernsey
CATEGORIES:Bats
END:VEVENT
END:VCALENDAR