BEGIN:VCALENDAR
VERSION:2.0
PRODID:-//La Societe Guernesiaise - ECPv6.2.9//NONSGML v1.0//EN
CALSCALE:GREGORIAN
METHOD:PUBLISH
X-WR-CALNAME:La Societe Guernesiaise
X-ORIGINAL-URL:https://societe.org.gg/wp
X-WR-CALDESC:Events for La Societe Guernesiaise
REFRESH-INTERVAL;VALUE=DURATION:PT1H
X-Robots-Tag:noindex
X-PUBLISHED-TTL:PT1H
BEGIN:VTIMEZONE
TZID:UTC
BEGIN:STANDARD
TZOFFSETFROM:+0000
TZOFFSETTO:+0000
TZNAME:UTC
DTSTART:20250101T000000
END:STANDARD
END:VTIMEZONE
BEGIN:VEVENT
DTSTART;TZID=UTC:20251127T193000
DTEND;TZID=UTC:20251127T193000
DTSTAMP:20260419T234158
CREATED:20250908T134310Z
LAST-MODIFIED:20250908T143446Z
UID:23954-1764271800-1764271800@societe.org.gg
SUMMARY:‘Excavations at Les Huguettes\, Alderney’ a talk by Dr Philip de Jersey
DESCRIPTION:‘Excavations at Les Huguettes\, Alderney’ a talk by Dr Philip de Jersey \nThursday 27th November \n7:30pm \nThe Frossard Theatre\, Candie Gardens \n(Open to all Members) \n  \n \n 
URL:https://societe.org.gg/wp/event/excavations-at-les-huguettes-alderney-a-talk-by-dr-philip-de-jersey/
LOCATION:Frossard Theatre\, Candie
CATEGORIES:Archaeology
END:VEVENT
END:VCALENDAR