BEGIN:VCALENDAR
VERSION:2.0
PRODID:-//La Societe Guernesiaise - ECPv6.2.9//NONSGML v1.0//EN
CALSCALE:GREGORIAN
METHOD:PUBLISH
X-WR-CALNAME:La Societe Guernesiaise
X-ORIGINAL-URL:https://societe.org.gg/wp
X-WR-CALDESC:Events for La Societe Guernesiaise
REFRESH-INTERVAL;VALUE=DURATION:PT1H
X-Robots-Tag:noindex
X-PUBLISHED-TTL:PT1H
BEGIN:VTIMEZONE
TZID:UTC
BEGIN:STANDARD
TZOFFSETFROM:+0000
TZOFFSETTO:+0000
TZNAME:UTC
DTSTART:20250101T000000
END:STANDARD
END:VTIMEZONE
BEGIN:VEVENT
DTSTART;TZID=UTC:20251025T133000
DTEND;TZID=UTC:20251025T153000
DTSTAMP:20260420T011853
CREATED:20250915T191157Z
LAST-MODIFIED:20251002T163201Z
UID:23963-1761399000-1761406200@societe.org.gg
SUMMARY:Open day at the Brothers’ Cemetery - Archaeology\, Botany and Entomology
DESCRIPTION:Open day at the Brothers’ Cemetery. \n \nSaturday 25th October from 1.30pm \n \nThis is an opportunity to find out about about the restoration of the tombs\, the history of the cemetery and the biodiversity value. \n \nIt is a joint event between Archaeology\, Botany and Entomology. \n \nOpen to all Société members\n \n\n 
URL:https://societe.org.gg/wp/event/open-day-at-the-brothers-cemetery-archaeology-botany-and-entomology/
CATEGORIES:Archaeology,Botany,Entomology
END:VEVENT
END:VCALENDAR