BEGIN:VCALENDAR
VERSION:2.0
PRODID:-//La Societe Guernesiaise - ECPv6.2.9//NONSGML v1.0//EN
CALSCALE:GREGORIAN
METHOD:PUBLISH
X-WR-CALNAME:La Societe Guernesiaise
X-ORIGINAL-URL:https://societe.org.gg/wp
X-WR-CALDESC:Events for La Societe Guernesiaise
REFRESH-INTERVAL;VALUE=DURATION:PT1H
X-Robots-Tag:noindex
X-PUBLISHED-TTL:PT1H
BEGIN:VTIMEZONE
TZID:UTC
BEGIN:STANDARD
TZOFFSETFROM:+0000
TZOFFSETTO:+0000
TZNAME:UTC
DTSTART:20250101T000000
END:STANDARD
END:VTIMEZONE
BEGIN:VEVENT
DTSTART;VALUE=DATE:20250608
DTEND;VALUE=DATE:20250609
DTSTAMP:20260420T071252
CREATED:20250416T100427Z
LAST-MODIFIED:20250416T100427Z
UID:23751-1749340800-1749427199@societe.org.gg
SUMMARY:La Société Member's Jethou Trip Two - 2025
DESCRIPTION:We are offering walks on Jethou on the mornings of Saturday 7th June\, and also Sunday 8th June. \nEach trip will last two hours and forty minutes in total\, consisting of two hours on Jethou plus travel time of 20 minutes each way. \nEach walk will have two guides from different Société Sections and the group must stay together; you are not permitted to wander separately from the group. \nKindly note the following: \n· The route follows a part coastal and part woodland path with a section of steep steps without a handrail \n· The terrain can be demanding and requires agility and sure footedness \n· The walk must be completed in the time allocated (2 hours) due to the scheduled boat times \n· Stout walking shoes/boots are required \n· Bring water\, sun cream and any other refreshments and medication you might need \n· The only visitors’ toilet is near the jetty\, there are no facilities on the route \n· The trip is not suitable for children \n· There are no first aid facilities on the island but your guides will carry a small first aid kit for minor injuries. \nPlease consider the above as a minimum when deciding if this trip is suitable for you. \nThe cost is £35 plus a booking fee per person with a maximum of 10 people per group plus two guides. Booking through Eventbrite. \nSunday 8th June 2025 \nDepart Guernsey 08.30 am led by Ornithology \nDepart Guernsey 09.15am led by Archaeology \nDepart Guernsey 10.00am led by Botany \nBook Tickets here
URL:https://societe.org.gg/wp/event/la-societe-members-jethou-trip-two-2025/
CATEGORIES:Archaeology,Botany,Ornithology
END:VEVENT
END:VCALENDAR