BEGIN:VCALENDAR
VERSION:2.0
PRODID:-//La Societe Guernesiaise - ECPv6.2.9//NONSGML v1.0//EN
CALSCALE:GREGORIAN
METHOD:PUBLISH
X-WR-CALNAME:La Societe Guernesiaise
X-ORIGINAL-URL:https://societe.org.gg/wp
X-WR-CALDESC:Events for La Societe Guernesiaise
REFRESH-INTERVAL;VALUE=DURATION:PT1H
X-Robots-Tag:noindex
X-PUBLISHED-TTL:PT1H
BEGIN:VTIMEZONE
TZID:UTC
BEGIN:STANDARD
TZOFFSETFROM:+0000
TZOFFSETTO:+0000
TZNAME:UTC
DTSTART:20250101T000000
END:STANDARD
END:VTIMEZONE
BEGIN:VEVENT
DTSTART;TZID=UTC:20250304T193000
DTEND;TZID=UTC:20250304T193000
DTSTAMP:20260422T111834
CREATED:20250224T104506Z
LAST-MODIFIED:20250224T122910Z
UID:23506-1741116600-1741116600@societe.org.gg
SUMMARY:Archaeology Talk - Excavation of the Castle Cornet drawbridge pit
DESCRIPTION:Excavation of the Castle Cornet drawbridge pit – a talk by Philip de Jersey and Tanya Walls\n \nThis talk is open to everyone at the Frossard Theatre on Tuesday 4th March at 7:30pm\n \n\nExcavation of the Castle Cornet drawbridge pit – a talk by Philip de Jersey and Tanya Walls. Photo is courtesy of Philip de Jersey \n\n 
URL:https://societe.org.gg/wp/event/archaeology-talk-excavation-of-the-castle-cornet-drawbridge-pit/
LOCATION:Frossard Theatre\, Candie
CATEGORIES:Archaeology
ORGANIZER;CN="Archaeology section":MAILTO:archaeology@societe.org.gg
END:VEVENT
BEGIN:VEVENT
DTSTART;TZID=UTC:20250325T193000
DTEND;TZID=UTC:20250325T193000
DTSTAMP:20260422T111834
CREATED:20250224T104756Z
LAST-MODIFIED:20250325T101451Z
UID:23509-1742931000-1742931000@societe.org.gg
SUMMARY:A Late Roman Building on Longis Common A lecture by Jason Monaghan - Archaeology Section
DESCRIPTION:A Late Roman Building on Longis Common A lecture by Jason Monaghan \nFrossard Theatre\, Candie Gardens – Tuesday March 25 at 7:30 PM \n  \nDCIM100MEDIADJI_0020.JPG \n 
URL:https://societe.org.gg/wp/event/a-late-roman-building-on-longis-common-a-lecture-by-jason-monaghan-archaeology-section/
LOCATION:Frossard Theatre\, Candie
CATEGORIES:Archaeology
ORGANIZER;CN="Archaeology section":MAILTO:archaeology@societe.org.gg
END:VEVENT
END:VCALENDAR