BEGIN:VCALENDAR
VERSION:2.0
PRODID:-//La Societe Guernesiaise - ECPv6.2.9//NONSGML v1.0//EN
CALSCALE:GREGORIAN
METHOD:PUBLISH
X-ORIGINAL-URL:https://societe.org.gg/wp
X-WR-CALDESC:Events for La Societe Guernesiaise
REFRESH-INTERVAL;VALUE=DURATION:PT1H
X-Robots-Tag:noindex
X-PUBLISHED-TTL:PT1H
BEGIN:VTIMEZONE
TZID:UTC
BEGIN:STANDARD
TZOFFSETFROM:+0000
TZOFFSETTO:+0000
TZNAME:UTC
DTSTART:20240101T000000
END:STANDARD
END:VTIMEZONE
BEGIN:VEVENT
DTSTART;TZID=UTC:20240616T100000
DTEND;TZID=UTC:20240616T120000
DTSTAMP:20260423T005031
CREATED:20240513T125051Z
LAST-MODIFIED:20240513T125229Z
UID:22847-1718532000-1718539200@societe.org.gg
SUMMARY:Junior Event – Archaeology Event  - Washing Finds
DESCRIPTION:Sunday 16th June | 10:00-12:00 | Candie Gardens \n\nSlot 1: 10:00-11:00am \nSlot 2: 11:00-12:00pm\n\nJoin us washing and sorting the finds from the recent archaeological digs at Castle Cornet. We will meet outside if the weather is fine and in the La Société Section room if it’s wet. \nTo book in for this event\, please email Sarah at eca@societe.org.gg with children’s names and slot preference.  \nPlease note there is limited availability for this event.  \n 
URL:https://societe.org.gg/wp/event/junior-event-archaeology/
LOCATION:Candie Gardens
CATEGORIES:Archaeology,Junior Section
END:VEVENT
END:VCALENDAR