BEGIN:VCALENDAR
VERSION:2.0
PRODID:-//La Societe Guernesiaise - ECPv6.2.9//NONSGML v1.0//EN
CALSCALE:GREGORIAN
METHOD:PUBLISH
X-ORIGINAL-URL:https://societe.org.gg/wp
X-WR-CALDESC:Events for La Societe Guernesiaise
REFRESH-INTERVAL;VALUE=DURATION:PT1H
X-Robots-Tag:noindex
X-PUBLISHED-TTL:PT1H
BEGIN:VTIMEZONE
TZID:UTC
BEGIN:STANDARD
TZOFFSETFROM:+0000
TZOFFSETTO:+0000
TZNAME:UTC
DTSTART:20230101T000000
END:STANDARD
END:VTIMEZONE
BEGIN:VEVENT
DTSTART;TZID=UTC:20231119T140000
DTEND;TZID=UTC:20231119T170000
DTSTAMP:20260423T124055
CREATED:20230927T130235Z
LAST-MODIFIED:20241204T103347Z
UID:22131-1700402400-1700413200@societe.org.gg
SUMMARY:Junior Event – Archaeology Store Tour
DESCRIPTION:Junior Event – Archaeology Store Tour \nSunday 19th November | between 14:00 -17:00\, at Grange House.  \nLocation: Grange House\, St John’s Street — what3words ///yarn.feelers.cubs here  \nWe would like to invite our Juniors to join us on the afternoon of Sunday 19th November for an exclusive tour of the Guernsey Museum stores which include all sorts of unique and interesting things to see! The stores include archaeological finds\, natural history and artefacts from Guernsey and around the world!  \nDue to the nature of the stores\, it is not possible to take around a large group\, so there will be 4x 40-minute slots available to be booked (we can cater for 1 or 2 families per slot). \nThe slots are as follows:  \n\nSlot 1 – 14:00 – 14:40\nSlot 2 – 14:40 – 15:20\nSlot 3 – 15:20 – 16:00 \nSlot 4 – 16:00 -16:40\n\nPlaces will be allocated on a first come first served basis\, so please let us know as soon as possible if you would like to attend and if you have any preference of slot time\, by emailing Sarah at eca@societe.org.gg with children’s names.  \n  \n 
URL:https://societe.org.gg/wp/event/junior-event-archaeology-store-tour/
LOCATION:Grange House\, Grange House\, The Grange\, St Peter Port\, Guernsey\, United Kingdom
CATEGORIES:Archaeology,Junior Section
END:VEVENT
END:VCALENDAR