BEGIN:VCALENDAR
VERSION:2.0
PRODID:-//La Societe Guernesiaise - ECPv6.2.9//NONSGML v1.0//EN
CALSCALE:GREGORIAN
METHOD:PUBLISH
X-ORIGINAL-URL:https://societe.org.gg/wp
X-WR-CALDESC:Events for La Societe Guernesiaise
REFRESH-INTERVAL;VALUE=DURATION:PT1H
X-Robots-Tag:noindex
X-PUBLISHED-TTL:PT1H
BEGIN:VTIMEZONE
TZID:UTC
BEGIN:STANDARD
TZOFFSETFROM:+0000
TZOFFSETTO:+0000
TZNAME:UTC
DTSTART:20260101T000000
END:STANDARD
END:VTIMEZONE
BEGIN:VEVENT
DTSTART;TZID=UTC:20261017T193000
DTEND;TZID=UTC:20261017T193000
DTSTAMP:20260420T115003
CREATED:20260301T172230Z
LAST-MODIFIED:20260301T172230Z
UID:513573-1792265400-1792265400@societe.org.gg
SUMMARY:A Retrospective of This Year’s French Trip – A lecture by John McCormack
DESCRIPTION:A Retrospective of This Year’s French Trip – A lecture by John McCormack \n Saturday 17th October  at 7:30pm \n📍 Frossard Theatre\, Candie Gardens \nHistoric Building Lectures from March-April and October-December will begin at 7.30pm and will be held at Guernsey Museum in the Frossard Theatre. Visits from May-September will take place on site and will begin at 2:30pm unless otherwise stated. \nNew Members or visitors are always welcome to attend\, but should contact the Section Secretary Callum Tostevin-Hall beforehand by email at: callum.th@icloud.com
URL:https://societe.org.gg/wp/event/a-retrospective-of-this-years-french-trip-a-lecture-by-john-mccormack-2/
LOCATION:Frossard Theatre\, Candie
CATEGORIES:Historic Buildings
END:VEVENT
END:VCALENDAR